BEGIN:VCALENDAR
VERSION:2.0
PRODID:-//Acreage Restaurant - ECPv6.15.20//NONSGML v1.0//EN
CALSCALE:GREGORIAN
METHOD:PUBLISH
X-WR-CALNAME:Acreage Restaurant
X-ORIGINAL-URL:https://acreageco.com
X-WR-CALDESC:Events for Acreage Restaurant
REFRESH-INTERVAL;VALUE=DURATION:PT1H
X-Robots-Tag:noindex
X-PUBLISHED-TTL:PT1H
BEGIN:VTIMEZONE
TZID:America/Denver
BEGIN:DAYLIGHT
TZOFFSETFROM:-0700
TZOFFSETTO:-0600
TZNAME:MDT
DTSTART:20230312T090000
END:DAYLIGHT
BEGIN:STANDARD
TZOFFSETFROM:-0600
TZOFFSETTO:-0700
TZNAME:MST
DTSTART:20231105T080000
END:STANDARD
BEGIN:DAYLIGHT
TZOFFSETFROM:-0700
TZOFFSETTO:-0600
TZNAME:MDT
DTSTART:20240310T090000
END:DAYLIGHT
BEGIN:STANDARD
TZOFFSETFROM:-0600
TZOFFSETTO:-0700
TZNAME:MST
DTSTART:20241103T080000
END:STANDARD
BEGIN:DAYLIGHT
TZOFFSETFROM:-0700
TZOFFSETTO:-0600
TZNAME:MDT
DTSTART:20250309T090000
END:DAYLIGHT
BEGIN:STANDARD
TZOFFSETFROM:-0600
TZOFFSETTO:-0700
TZNAME:MST
DTSTART:20251102T080000
END:STANDARD
END:VTIMEZONE
BEGIN:VEVENT
DTSTART;TZID=America/Denver:20241219T173000
DTEND;TZID=America/Denver:20241219T183000
DTSTAMP:20260423T070920
CREATED:20241217T000058Z
LAST-MODIFIED:20241219T003818Z
UID:4538-1734629400-1734633000@acreageco.com
SUMMARY:Yin Yoga + Sound Bath Series
DESCRIPTION:Welcome to Yin Yoga + Sound Bath Thursdays at Acreage led by YogaSix Nine Mile. This event will take place in the Cellar room\, admist ambient lighting and echoing sound bowls. Join Samantha for a deeply restorative 60-minute experience designed to nurture your mind\, body\, and spirit as we transition into Winter. We will begin with Yin Yoga and then move into the Sound Bath. Immerse yourself in the soothing vibrations of sound bowls\, harmonium\, and gentle vocals\, all crafted to support your nervous system and ease tension. This session is the perfect way to release stress\, reset your energy\, and enter the new season feeling refreshed and balanced. Bring your mat\, blanket\, and optional eye pillow + bolster to support your practice. \nSamantha Lawrence will lead us through a beautiful hour\, and we will unwind after with a refreshing cider. Make reservations at Acreage to stay afterwards for dinner! \nThis event takes place on \nDecember 19th \nJanuary 16th \nFebruary 13th \n*Cider is included in your ticket price. \n  \nBuy your ticket
URL:https://acreageco.com/event/yin-yoga-sound-bath-series/
LOCATION:Acreage by Stem Ciders\, 1380 Horizon Ave\, Lafayette\, CO\, 80026\, United States
END:VEVENT
END:VCALENDAR