BEGIN:VCALENDAR
VERSION:2.0
PRODID:-//Acreage Restaurant - ECPv6.15.20//NONSGML v1.0//EN
CALSCALE:GREGORIAN
METHOD:PUBLISH
X-ORIGINAL-URL:https://acreageco.com
X-WR-CALDESC:Events for Acreage Restaurant
REFRESH-INTERVAL;VALUE=DURATION:PT1H
X-Robots-Tag:noindex
X-PUBLISHED-TTL:PT1H
BEGIN:VTIMEZONE
TZID:America/Denver
BEGIN:DAYLIGHT
TZOFFSETFROM:-0700
TZOFFSETTO:-0600
TZNAME:MDT
DTSTART:20230312T090000
END:DAYLIGHT
BEGIN:STANDARD
TZOFFSETFROM:-0600
TZOFFSETTO:-0700
TZNAME:MST
DTSTART:20231105T080000
END:STANDARD
BEGIN:DAYLIGHT
TZOFFSETFROM:-0700
TZOFFSETTO:-0600
TZNAME:MDT
DTSTART:20240310T090000
END:DAYLIGHT
BEGIN:STANDARD
TZOFFSETFROM:-0600
TZOFFSETTO:-0700
TZNAME:MST
DTSTART:20241103T080000
END:STANDARD
BEGIN:DAYLIGHT
TZOFFSETFROM:-0700
TZOFFSETTO:-0600
TZNAME:MDT
DTSTART:20250309T090000
END:DAYLIGHT
BEGIN:STANDARD
TZOFFSETFROM:-0600
TZOFFSETTO:-0700
TZNAME:MST
DTSTART:20251102T080000
END:STANDARD
END:VTIMEZONE
BEGIN:VEVENT
DTSTART;TZID=America/Denver:20241028T163000
DTEND;TZID=America/Denver:20241028T173000
DTSTAMP:20260423T085720
CREATED:20241019T003618Z
LAST-MODIFIED:20241028T010611Z
UID:4392-1730133000-1730136600@acreageco.com
SUMMARY:Halloween Goat Yoga
DESCRIPTION:Join Rocky Mountain Goat Yoga at Acreage on OCTOBER 28th. \nTickets purchased here \n 
URL:https://acreageco.com/event/halloween-goat-yoga/
LOCATION:Acreage by Stem Ciders\, 1380 Horizon Ave\, Lafayette\, CO\, 80026\, United States
END:VEVENT
END:VCALENDAR