BEGIN:VCALENDAR
VERSION:2.0
PRODID:-//Acreage Restaurant - ECPv6.15.20//NONSGML v1.0//EN
CALSCALE:GREGORIAN
METHOD:PUBLISH
X-WR-CALNAME:Acreage Restaurant
X-ORIGINAL-URL:https://acreageco.com
X-WR-CALDESC:Events for Acreage Restaurant
REFRESH-INTERVAL;VALUE=DURATION:PT1H
X-Robots-Tag:noindex
X-PUBLISHED-TTL:PT1H
BEGIN:VTIMEZONE
TZID:America/Denver
BEGIN:DAYLIGHT
TZOFFSETFROM:-0700
TZOFFSETTO:-0600
TZNAME:MDT
DTSTART:20230312T090000
END:DAYLIGHT
BEGIN:STANDARD
TZOFFSETFROM:-0600
TZOFFSETTO:-0700
TZNAME:MST
DTSTART:20231105T080000
END:STANDARD
BEGIN:DAYLIGHT
TZOFFSETFROM:-0700
TZOFFSETTO:-0600
TZNAME:MDT
DTSTART:20240310T090000
END:DAYLIGHT
BEGIN:STANDARD
TZOFFSETFROM:-0600
TZOFFSETTO:-0700
TZNAME:MST
DTSTART:20241103T080000
END:STANDARD
BEGIN:DAYLIGHT
TZOFFSETFROM:-0700
TZOFFSETTO:-0600
TZNAME:MDT
DTSTART:20250309T090000
END:DAYLIGHT
BEGIN:STANDARD
TZOFFSETFROM:-0600
TZOFFSETTO:-0700
TZNAME:MST
DTSTART:20251102T080000
END:STANDARD
END:VTIMEZONE
BEGIN:VEVENT
DTSTART;TZID=America/Denver:20240606T180000
DTEND;TZID=America/Denver:20240606T193000
DTSTAMP:20260422T075521
CREATED:20240511T083510Z
LAST-MODIFIED:20240606T103525Z
UID:3701-1717696800-1717702200@acreageco.com
SUMMARY:Sunset Yoga with Corepower Yoga
DESCRIPTION:Sunset Yoga on the hill at Acreage \nStarting May 30th and running until September 12th (no yoga on July 4th) \nSign up online one week before scheduled class.
URL:https://acreageco.com/event/sunset-yoga-with-corepower-yoga-2/
LOCATION:Acreage by Stem Ciders\, 1380 Horizon Ave\, Lafayette\, CO\, 80026\, United States
ORGANIZER;CN="Stem Ciders":MAILTO:info@stemciders.com
END:VEVENT
END:VCALENDAR