BEGIN:VCALENDAR
VERSION:2.0
PRODID:-//Acreage Restaurant - ECPv6.15.20//NONSGML v1.0//EN
CALSCALE:GREGORIAN
METHOD:PUBLISH
X-ORIGINAL-URL:https://acreageco.com
X-WR-CALDESC:Events for Acreage Restaurant
REFRESH-INTERVAL;VALUE=DURATION:PT1H
X-Robots-Tag:noindex
X-PUBLISHED-TTL:PT1H
BEGIN:VTIMEZONE
TZID:America/Denver
BEGIN:DAYLIGHT
TZOFFSETFROM:-0700
TZOFFSETTO:-0600
TZNAME:MDT
DTSTART:20230312T090000
END:DAYLIGHT
BEGIN:STANDARD
TZOFFSETFROM:-0600
TZOFFSETTO:-0700
TZNAME:MST
DTSTART:20231105T080000
END:STANDARD
BEGIN:DAYLIGHT
TZOFFSETFROM:-0700
TZOFFSETTO:-0600
TZNAME:MDT
DTSTART:20240310T090000
END:DAYLIGHT
BEGIN:STANDARD
TZOFFSETFROM:-0600
TZOFFSETTO:-0700
TZNAME:MST
DTSTART:20241103T080000
END:STANDARD
BEGIN:DAYLIGHT
TZOFFSETFROM:-0700
TZOFFSETTO:-0600
TZNAME:MDT
DTSTART:20250309T090000
END:DAYLIGHT
BEGIN:STANDARD
TZOFFSETFROM:-0600
TZOFFSETTO:-0700
TZNAME:MST
DTSTART:20251102T080000
END:STANDARD
END:VTIMEZONE
BEGIN:VEVENT
DTSTART;TZID=America/Denver:20240512T120000
DTEND;TZID=America/Denver:20240512T160000
DTSTAMP:20260422T062756
CREATED:20240510T083509Z
LAST-MODIFIED:20240512T083456Z
UID:3691-1715515200-1715529600@acreageco.com
SUMMARY:Sled Pulling Fundraiser for Taysia Blue Rescue
DESCRIPTION:Adoptable Huskies will be attending the event looking for their furrever families. \nMeet the Taysia Blue Crew to learn about the rescue\, fostering\, transporting\, and other ways to get involved in the rescue. \nEver wondered how heavy a dog sled is? There will be a dog sled demonstration where for a donation you can try to pull the sled! Come meet Lara Daniel who set out to Antarctica to climb Mt. Vinson while raising money for the rescue. She’s an incredible supporter and adventurer. \nhttps://taysiablue.com/2023-antarctica-expedition-with-lara-daniel \nAcreage will be collecting donations throughout the event. \nAll donations will be matched 100% by Maggie Fast with West + Main Homes
URL:https://acreageco.com/event/sled-pulling-fundraiser-for-taysia-blue-rescue/
LOCATION:Acreage by Stem Ciders\, 1380 Horizon Ave\, Lafayette\, CO\, 80026\, United States
END:VEVENT
END:VCALENDAR